BEGIN:VCALENDAR
VERSION:2.0
PRODID:-//Capitol Hill - An Awesome Place To Live - ECPv6.13.2.1//NONSGML v1.0//EN
CALSCALE:GREGORIAN
METHOD:PUBLISH
X-WR-CALNAME:Capitol Hill - An Awesome Place To Live
X-ORIGINAL-URL:https://capitolhillcommunitycouncil.com
X-WR-CALDESC:Events for Capitol Hill - An Awesome Place To Live
REFRESH-INTERVAL;VALUE=DURATION:PT1H
X-Robots-Tag:noindex
X-PUBLISHED-TTL:PT1H
BEGIN:VTIMEZONE
TZID:America/Los_Angeles
BEGIN:DAYLIGHT
TZOFFSETFROM:-0800
TZOFFSETTO:-0700
TZNAME:PDT
DTSTART:20260308T100000
END:DAYLIGHT
BEGIN:STANDARD
TZOFFSETFROM:-0700
TZOFFSETTO:-0800
TZNAME:PST
DTSTART:20261101T090000
END:STANDARD
END:VTIMEZONE
BEGIN:VEVENT
DTSTART;TZID=America/Los_Angeles:20260128T183000
DTEND;TZID=America/Los_Angeles:20260128T200000
DTSTAMP:20260423T053011
CREATED:20260110T210117Z
LAST-MODIFIED:20260122T213855Z
UID:652-1769625000-1769630400@capitolhillcommunitycouncil.com
SUMMARY:CHCC January General Meeting
DESCRIPTION:Come join us for our January 2026 meeting. \nJan 28 2026 \nMeeting will have announcements and group discussions. Note: due to the nature of the group discussions it may be hard to engage with the discussions remotely. \nZoom Link\nMeeting ID: 857 4065 0774\nPasscode: 505144 \n\nOne tap mobile\n+12532050468\,\,85740650774#\,\,\,\,505144# US +12532158782\,\,85740650774#\,\,\,\,505144# US (Tacoma) \nMeeting will be at Seattle Central College Room 1111/1110 \n  \nEventbrite RSVP  – More Info
URL:https://capitolhillcommunitycouncil.com/event/chcc-january-general-meeting/
LOCATION:Seattle Central College – Rm 1111/1110\, 1701 Broadway Seattle\, Seattle\, WA\, 98122\, United States
END:VEVENT
BEGIN:VEVENT
DTSTART;TZID=America/Los_Angeles:20260129T190000
DTEND;TZID=America/Los_Angeles:20260129T200000
DTSTAMP:20260423T053011
CREATED:20260123T061056Z
LAST-MODIFIED:20260123T061056Z
UID:664-1769713200-1769716800@capitolhillcommunitycouncil.com
SUMMARY:CHCC Social Planning Meeting
DESCRIPTION:When: 7pm Jan 29 on Zoom \nWhat: Social Planning Meeting – Share ideas and how to work better together. \nTopic: CHCC Social Planning Meeting\nTime: Jan 29\, 2026 07:00 PM Pacific Time (US and Canada)\nJoin Zoom Meeting\nhttps://us06web.zoom.us/j/81124002226?pwd=UWgQSnEbADUAiATfQQJJP9SiFUxCai.1 \nMeeting ID: 811 2400 2226\nPasscode: 073533
URL:https://capitolhillcommunitycouncil.com/event/chcc-social-planning-meeting-2/
LOCATION:online
END:VEVENT
END:VCALENDAR