BEGIN:VCALENDAR
VERSION:2.0
PRODID:-//Capitol Hill - An Awesome Place To Live - ECPv6.13.2.1//NONSGML v1.0//EN
CALSCALE:GREGORIAN
METHOD:PUBLISH
X-ORIGINAL-URL:https://capitolhillcommunitycouncil.com
X-WR-CALDESC:Events for Capitol Hill - An Awesome Place To Live
REFRESH-INTERVAL;VALUE=DURATION:PT1H
X-Robots-Tag:noindex
X-PUBLISHED-TTL:PT1H
BEGIN:VTIMEZONE
TZID:America/Los_Angeles
BEGIN:DAYLIGHT
TZOFFSETFROM:-0800
TZOFFSETTO:-0700
TZNAME:PDT
DTSTART:20250309T100000
END:DAYLIGHT
BEGIN:STANDARD
TZOFFSETFROM:-0700
TZOFFSETTO:-0800
TZNAME:PST
DTSTART:20251102T090000
END:STANDARD
END:VTIMEZONE
BEGIN:VEVENT
DTSTART;TZID=America/Los_Angeles:20251106T170000
DTEND;TZID=America/Los_Angeles:20251106T190000
DTSTAMP:20260423T084555
CREATED:20250918T180352Z
LAST-MODIFIED:20251024T012307Z
UID:552-1762448400-1762455600@capitolhillcommunitycouncil.com
SUMMARY:CHCC November Happy Hour
DESCRIPTION:Come join us at Deluxe Bar and Grill – 625 Broadway E \nMake new friends and connect with old ones. \n  \nRSVP – Partiful (phone only) – Eventbrite RSVP encouraged\, but not required
URL:https://capitolhillcommunitycouncil.com/event/chcc-november-happy-hour/
LOCATION:Deluxe Bar & Grll\, 625 Broadway E\, Seattle\, WA\, 98102
END:VEVENT
BEGIN:VEVENT
DTSTART;TZID=America/Los_Angeles:20251126T190000
DTEND;TZID=America/Los_Angeles:20251126T193000
DTSTAMP:20260423T084555
CREATED:20251124T041747Z
LAST-MODIFIED:20251124T041747Z
UID:631-1764183600-1764185400@capitolhillcommunitycouncil.com
SUMMARY:CHCC Amendment Vote
DESCRIPTION:The bylaw process is finally reaching the end of its process. In accordance with the current bylaws the CHCC Board will voting to approve the amendments to the bylaws November 26. You can submit comment here. \n  \nZoom Link \nMeeting ID: 875 7081 7085\nPasscode: 311156
URL:https://capitolhillcommunitycouncil.com/event/chcc-amendment-vote/
LOCATION:WA
END:VEVENT
END:VCALENDAR