BEGIN:VCALENDAR
VERSION:2.0
PRODID:-//Capitol Hill - An Awesome Place To Live - ECPv6.13.2.1//NONSGML v1.0//EN
CALSCALE:GREGORIAN
METHOD:PUBLISH
X-WR-CALNAME:Capitol Hill - An Awesome Place To Live
X-ORIGINAL-URL:https://capitolhillcommunitycouncil.com
X-WR-CALDESC:Events for Capitol Hill - An Awesome Place To Live
REFRESH-INTERVAL;VALUE=DURATION:PT1H
X-Robots-Tag:noindex
X-PUBLISHED-TTL:PT1H
BEGIN:VTIMEZONE
TZID:America/Los_Angeles
BEGIN:DAYLIGHT
TZOFFSETFROM:-0800
TZOFFSETTO:-0700
TZNAME:PDT
DTSTART:20250309T100000
END:DAYLIGHT
BEGIN:STANDARD
TZOFFSETFROM:-0700
TZOFFSETTO:-0800
TZNAME:PST
DTSTART:20251102T090000
END:STANDARD
END:VTIMEZONE
BEGIN:VEVENT
DTSTART;TZID=America/Los_Angeles:20251001T183000
DTEND;TZID=America/Los_Angeles:20251001T193000
DTSTAMP:20260423T101322
CREATED:20250923T140318Z
LAST-MODIFIED:20250923T140409Z
UID:563-1759343400-1759347000@capitolhillcommunitycouncil.com
SUMMARY:Halloween Hot Zone Planning Meeting
DESCRIPTION:Join us as we plan for Halloween 2025 in the Halloween Hot Zone. \nSee This Page for More Info
URL:https://capitolhillcommunitycouncil.com/event/halloween-hot-zone-planning-meeting/
LOCATION:Prospect Congregational United Church of Christ\, 1919 E Prospect St\, Seattle\, 98112\, United States
END:VEVENT
BEGIN:VEVENT
DTSTART;TZID=America/Los_Angeles:20251002T170000
DTEND;TZID=America/Los_Angeles:20251002T190000
DTSTAMP:20260423T101322
CREATED:20250918T175537Z
LAST-MODIFIED:20250918T175650Z
UID:550-1759424400-1759431600@capitolhillcommunitycouncil.com
SUMMARY:October First Thursday Happy Hour
DESCRIPTION:Come join us at Last Drop October 2nd from 5-7pm. \nMeet neighbor and make new friends. \nRSVP – Partiful (phone only) – RSVP not required\, but encouraged. \nMore info – email us at chcc.officers@gmail.com
URL:https://capitolhillcommunitycouncil.com/event/october-first-thursday-happy-hour/
LOCATION:Last Drop Bottle Shop\, 517 E Pike St\, Seattle\, 98122\, United States
END:VEVENT
BEGIN:VEVENT
DTSTART;TZID=America/Los_Angeles:20251006T190000
DTEND;TZID=America/Los_Angeles:20251006T200000
DTSTAMP:20260423T101322
CREATED:20250922T213313Z
LAST-MODIFIED:20250922T213313Z
UID:561-1759777200-1759780800@capitolhillcommunitycouncil.com
SUMMARY:Social Planning Meeting - Virtual
DESCRIPTION:A virtual planning meeting to see what there is interest in doing for the Capitol Hill area. \nIs there support for more than the CHCC First Thursday Happy Hour? Do we want to organize outings together\, etc. \nQuestions – chcc.officers@gmail.com \n  \nJoin Zoom Meeting \nMeeting ID: 827 7718 2333\nPasscode: 165241 \n— \nOne tap mobile\n+12532158782\,\,82777182333#\,\,\,\,*165241# US (Tacoma)\n+12532050468\,\,82777182333#\,\,\,\,*165241# US
URL:https://capitolhillcommunitycouncil.com/event/social-planning-meeting-virtual/
LOCATION:WA
END:VEVENT
BEGIN:VEVENT
DTSTART;TZID=America/Los_Angeles:20251016T173000
DTEND;TZID=America/Los_Angeles:20251016T193000
DTSTAMP:20260423T101322
CREATED:20250929T154229Z
LAST-MODIFIED:20250929T154423Z
UID:610-1760635800-1760643000@capitolhillcommunitycouncil.com
SUMMARY:Seattle City Attorney Candidate Forum - Part of Urban Community Councils Series
DESCRIPTION:Join the Urban Community Councils of Seattle for a public forum with the Seattle City Attorney Candidates
URL:https://capitolhillcommunitycouncil.com/event/seattle-city-attorney-candidate-forum-part-of-urban-community-councils-series/
LOCATION:Parkview Event Space\, 200 8th Avenue North\, Seattle\, WA\, 98109\, United States
END:VEVENT
BEGIN:VEVENT
DTSTART;TZID=America/Los_Angeles:20251020T190000
DTEND;TZID=America/Los_Angeles:20251020T203000
DTSTAMP:20260423T101322
CREATED:20250929T154644Z
LAST-MODIFIED:20250929T154644Z
UID:613-1760986800-1760992200@capitolhillcommunitycouncil.com
SUMMARY:King County Executive Candidate Forum - In Partnership with Urban Community Councils
DESCRIPTION:Join the Urban Community Councils of Seattle for a public forum with the King County Executive Candidates
URL:https://capitolhillcommunitycouncil.com/event/king-county-executive-candidate-forum-in-partnership-with-urban-community-councils/
LOCATION:Christ Our Hope Catholic Church\, 1902 2nd Avenue\, Seattle\, WA\, 98101\, United States
END:VEVENT
BEGIN:VEVENT
DTSTART;TZID=America/Los_Angeles:20251021T173000
DTEND;TZID=America/Los_Angeles:20251021T193000
DTSTAMP:20260423T101322
CREATED:20250918T182248Z
LAST-MODIFIED:20251021T210146Z
UID:558-1761067800-1761075000@capitolhillcommunitycouncil.com
SUMMARY:Mayoral Debate - Hosted by CHCC and FHIA as part of the Urban Community Councils
DESCRIPTION:Join the Urban Community Councils of Seattle for a public forum with the Seattle Mayoral Candidates \n\n\n\nThis event is hosted by First Hill Improvement Association and Capitol Hill Community Council in conjunction with the Urban Community Councils of Seattle \n\n\n\nCheck back for more details on location and for more information. \n\n\n\nTickets – EventBrite (email and phone) | Partiful (phone only)
URL:https://capitolhillcommunitycouncil.com/event/mayoral-debate-hosted-by-chcc-and-fhia-as-part-of-the-urban-community-councils/
LOCATION:WA
END:VEVENT
BEGIN:VEVENT
DTSTART;TZID=America/Los_Angeles:20251022T183000
DTEND;TZID=America/Los_Angeles:20251022T200000
DTSTAMP:20260423T101322
CREATED:20250928T233110Z
LAST-MODIFIED:20250929T004438Z
UID:601-1761157800-1761163200@capitolhillcommunitycouncil.com
SUMMARY:CHCC - October 2025 - Flags\, Bylaws\, and a look back
DESCRIPTION:Come check out the October 2025 CHCC Meeting.\n\nWe will be looking back and forward.\n\n\n\nZoom Link\n\n \n\nMeeting ID: 890 2551 5015\nPasscode: 865340\n\n\n\nRSVP Encouraged (Partiful Phone Only | Eventbrite)
URL:https://capitolhillcommunitycouncil.com/event/chcc-october-2025-flags-bylaws-and-a-look-back/
LOCATION:Seattle Central College – Rm 1111/1110\, 1701 Broadway Seattle\, Seattle\, WA\, 98122\, United States
END:VEVENT
BEGIN:VEVENT
DTSTART;TZID=America/Los_Angeles:20251023T173000
DTEND;TZID=America/Los_Angeles:20251023T193000
DTSTAMP:20260423T101322
CREATED:20250929T154030Z
LAST-MODIFIED:20250929T154128Z
UID:608-1761240600-1761247800@capitolhillcommunitycouncil.com
SUMMARY:Seattle City Council\, Position 9 - With The Urban Community Councils
DESCRIPTION:Join the Urban Community Councils of Seattle for a public forum with the Seattle City Council\, Position 9\, candidates \n 
URL:https://capitolhillcommunitycouncil.com/event/seattle-city-council-position-9-with-the-urban-community-councils/
LOCATION:ARTS at King Street Station\, 303 South Jackson Street #Top floor\, Seattle\, WA\, 98104\, United States
END:VEVENT
END:VCALENDAR