BEGIN:VCALENDAR
VERSION:2.0
PRODID:-//Capitol Hill - An Awesome Place To Live - ECPv6.13.2.1//NONSGML v1.0//EN
CALSCALE:GREGORIAN
METHOD:PUBLISH
X-ORIGINAL-URL:https://capitolhillcommunitycouncil.com
X-WR-CALDESC:Events for Capitol Hill - An Awesome Place To Live
REFRESH-INTERVAL;VALUE=DURATION:PT1H
X-Robots-Tag:noindex
X-PUBLISHED-TTL:PT1H
BEGIN:VTIMEZONE
TZID:America/Los_Angeles
BEGIN:DAYLIGHT
TZOFFSETFROM:-0800
TZOFFSETTO:-0700
TZNAME:PDT
DTSTART:20260308T100000
END:DAYLIGHT
BEGIN:STANDARD
TZOFFSETFROM:-0700
TZOFFSETTO:-0800
TZNAME:PST
DTSTART:20261101T090000
END:STANDARD
END:VTIMEZONE
BEGIN:VEVENT
DTSTART;TZID=America/Los_Angeles:20260221T143000
DTEND;TZID=America/Los_Angeles:20260221T153000
DTSTAMP:20260419T055240
CREATED:20260221T033457Z
LAST-MODIFIED:20260221T033457Z
UID:708-1771684200-1771687800@capitolhillcommunitycouncil.com
SUMMARY:Post Town Hall Hang Out
DESCRIPTION:Join the Capitol Hill Community Council\, 43rd LD Democrats\, and other members of the community at Nomadic Wines (Roy and Broadway) – two blocks east of Kerry Hall – after the 43rd LD Town Hall. Come chat with others about what you learned\, hope to make happen\, or just to talk about with other community members. This low key\, mix and mingle event is a way to connect\, unwind\, learn\, and share.
URL:https://capitolhillcommunitycouncil.com/event/post-town-hall-hang-out/
LOCATION:Nomadic Wines\, 700 Broadway E\, Seattle\, WA\, 98102\, United States
END:VEVENT
END:VCALENDAR