BEGIN:VCALENDAR
VERSION:2.0
PRODID:-//Capitol Hill - An Awesome Place To Live - ECPv6.13.2.1//NONSGML v1.0//EN
CALSCALE:GREGORIAN
METHOD:PUBLISH
X-ORIGINAL-URL:https://capitolhillcommunitycouncil.com
X-WR-CALDESC:Events for Capitol Hill - An Awesome Place To Live
REFRESH-INTERVAL;VALUE=DURATION:PT1H
X-Robots-Tag:noindex
X-PUBLISHED-TTL:PT1H
BEGIN:VTIMEZONE
TZID:America/Los_Angeles
BEGIN:DAYLIGHT
TZOFFSETFROM:-0800
TZOFFSETTO:-0700
TZNAME:PDT
DTSTART:20260308T100000
END:DAYLIGHT
BEGIN:STANDARD
TZOFFSETFROM:-0700
TZOFFSETTO:-0800
TZNAME:PST
DTSTART:20261101T090000
END:STANDARD
END:VTIMEZONE
BEGIN:VEVENT
DTSTART;TZID=America/Los_Angeles:20260218T183000
DTEND;TZID=America/Los_Angeles:20260218T200000
DTSTAMP:20260419T071359
CREATED:20260211T011717Z
LAST-MODIFIED:20260211T012744Z
UID:699-1771439400-1771444800@capitolhillcommunitycouncil.com
SUMMARY:First Big Ideas Committee Meeting
DESCRIPTION:The community has so many greater ideas\, let’s work together to get them done. The first Big Ideas Committee meeting is Feb 18th 6:30-8:00 PM at Stoup Brewing. Come and help turn our ideas into actions! Reach out to chcc.bigideas@gmail.com for more information or to join \nYou can RSVP here
URL:https://capitolhillcommunitycouncil.com/event/first-big-ideas-committee-meeting/
LOCATION:Stoup Brewing Capitol Hill\, 1158 Broadway\, Seattle\, WA\, 98112\, United States
END:VEVENT
END:VCALENDAR