BEGIN:VCALENDAR
VERSION:2.0
PRODID:-//Capitol Hill - An Awesome Place To Live - ECPv6.13.2.1//NONSGML v1.0//EN
CALSCALE:GREGORIAN
METHOD:PUBLISH
X-WR-CALNAME:Capitol Hill - An Awesome Place To Live
X-ORIGINAL-URL:https://capitolhillcommunitycouncil.com
X-WR-CALDESC:Events for Capitol Hill - An Awesome Place To Live
REFRESH-INTERVAL;VALUE=DURATION:PT1H
X-Robots-Tag:noindex
X-PUBLISHED-TTL:PT1H
BEGIN:VTIMEZONE
TZID:America/Los_Angeles
BEGIN:DAYLIGHT
TZOFFSETFROM:-0800
TZOFFSETTO:-0700
TZNAME:PDT
DTSTART:20250309T100000
END:DAYLIGHT
BEGIN:STANDARD
TZOFFSETFROM:-0700
TZOFFSETTO:-0800
TZNAME:PST
DTSTART:20251102T090000
END:STANDARD
END:VTIMEZONE
BEGIN:VEVENT
DTSTART;TZID=America/Los_Angeles:20251022T183000
DTEND;TZID=America/Los_Angeles:20251022T200000
DTSTAMP:20260423T120039
CREATED:20250928T233110Z
LAST-MODIFIED:20250929T004438Z
UID:601-1761157800-1761163200@capitolhillcommunitycouncil.com
SUMMARY:CHCC - October 2025 - Flags\, Bylaws\, and a look back
DESCRIPTION:Come check out the October 2025 CHCC Meeting.\n\nWe will be looking back and forward.\n\n\n\nZoom Link\n\n \n\nMeeting ID: 890 2551 5015\nPasscode: 865340\n\n\n\nRSVP Encouraged (Partiful Phone Only | Eventbrite)
URL:https://capitolhillcommunitycouncil.com/event/chcc-october-2025-flags-bylaws-and-a-look-back/
LOCATION:Seattle Central College – Rm 1111/1110\, 1701 Broadway Seattle\, Seattle\, WA\, 98122\, United States
END:VEVENT
END:VCALENDAR