BEGIN:VCALENDAR
VERSION:2.0
PRODID:-//Capitol Hill - An Awesome Place To Live - ECPv6.13.2.1//NONSGML v1.0//EN
CALSCALE:GREGORIAN
METHOD:PUBLISH
X-WR-CALNAME:Capitol Hill - An Awesome Place To Live
X-ORIGINAL-URL:https://capitolhillcommunitycouncil.com
X-WR-CALDESC:Events for Capitol Hill - An Awesome Place To Live
REFRESH-INTERVAL;VALUE=DURATION:PT1H
X-Robots-Tag:noindex
X-PUBLISHED-TTL:PT1H
BEGIN:VTIMEZONE
TZID:America/Los_Angeles
BEGIN:DAYLIGHT
TZOFFSETFROM:-0800
TZOFFSETTO:-0700
TZNAME:PDT
DTSTART:20250309T100000
END:DAYLIGHT
BEGIN:STANDARD
TZOFFSETFROM:-0700
TZOFFSETTO:-0800
TZNAME:PST
DTSTART:20251102T090000
END:STANDARD
END:VTIMEZONE
BEGIN:VEVENT
DTSTART;TZID=America/Los_Angeles:20251016T173000
DTEND;TZID=America/Los_Angeles:20251016T193000
DTSTAMP:20260423T115958
CREATED:20250929T154229Z
LAST-MODIFIED:20250929T154423Z
UID:610-1760635800-1760643000@capitolhillcommunitycouncil.com
SUMMARY:Seattle City Attorney Candidate Forum - Part of Urban Community Councils Series
DESCRIPTION:Join the Urban Community Councils of Seattle for a public forum with the Seattle City Attorney Candidates
URL:https://capitolhillcommunitycouncil.com/event/seattle-city-attorney-candidate-forum-part-of-urban-community-councils-series/
LOCATION:Parkview Event Space\, 200 8th Avenue North\, Seattle\, WA\, 98109\, United States
END:VEVENT
END:VCALENDAR