BEGIN:VCALENDAR
VERSION:2.0
PRODID:-//Capitol Hill - An Awesome Place To Live - ECPv6.13.2.1//NONSGML v1.0//EN
CALSCALE:GREGORIAN
METHOD:PUBLISH
X-ORIGINAL-URL:https://capitolhillcommunitycouncil.com
X-WR-CALDESC:Events for Capitol Hill - An Awesome Place To Live
REFRESH-INTERVAL;VALUE=DURATION:PT1H
X-Robots-Tag:noindex
X-PUBLISHED-TTL:PT1H
BEGIN:VTIMEZONE
TZID:America/Los_Angeles
BEGIN:DAYLIGHT
TZOFFSETFROM:-0800
TZOFFSETTO:-0700
TZNAME:PDT
DTSTART:20250309T100000
END:DAYLIGHT
BEGIN:STANDARD
TZOFFSETFROM:-0700
TZOFFSETTO:-0800
TZNAME:PST
DTSTART:20251102T090000
END:STANDARD
END:VTIMEZONE
BEGIN:VEVENT
DTSTART;TZID=America/Los_Angeles:20250924T183000
DTEND;TZID=America/Los_Angeles:20250924T200000
DTSTAMP:20260423T151715
CREATED:20250918T145628Z
LAST-MODIFIED:20250918T145628Z
UID:548-1758738600-1758744000@capitolhillcommunitycouncil.com
SUMMARY:CHCC September Meeting
DESCRIPTION:Council Member Joy Hollingsworth\, City of Seattle’s Citizen Police Commission and some updates from the Big Idea Fest.
URL:https://capitolhillcommunitycouncil.com/event/chcc-september-meeting/
LOCATION:Seattle Central College – Rm 1111/1110\, 1701 Broadway Seattle\, Seattle\, WA\, 98122\, United States
END:VEVENT
END:VCALENDAR